BEGIN:VCALENDAR
VERSION:2.0
PRODID:-//CERN//INDICO//EN
BEGIN:VEVENT
SUMMARY:Cells\, Circuits\, and Cognition: Celebrating 25 years of ENI-G re
 search
DTSTART:20260625T110000Z
DTEND:20260626T163000Z
DTSTAMP:20260423T122300Z
UID:indico-event-1@symposium.eni-g.de
DESCRIPTION:Join us in celebrating the 25th anniversary of the institute
 ’s official opening at our symposium.\n\nhttps://symposium.eni-g.de/even
 t/1/
IMAGE;VALUE=URI:https://symposium.eni-g.de/event/1/logo-3735826126.png
LOCATION:City Campus/1-1 - Max Planck Institute for Multidisciplinary Scie
 nces (Max Planck City Campus)
URL:https://symposium.eni-g.de/event/1/
END:VEVENT
END:VCALENDAR
